BEGIN:VCALENDAR
VERSION:2.0
PRODID:-//Rethinking Clinical Trials - ECPv6.15.20//NONSGML v1.0//EN
CALSCALE:GREGORIAN
METHOD:PUBLISH
X-WR-CALNAME:Rethinking Clinical Trials
X-ORIGINAL-URL:https://rethinkingclinicaltrials.org
X-WR-CALDESC:Events for Rethinking Clinical Trials
REFRESH-INTERVAL;VALUE=DURATION:PT1H
X-Robots-Tag:noindex
X-PUBLISHED-TTL:PT1H
BEGIN:VTIMEZONE
TZID:America/New_York
BEGIN:DAYLIGHT
TZOFFSETFROM:-0500
TZOFFSETTO:-0400
TZNAME:EDT
DTSTART:20230312T070000
END:DAYLIGHT
BEGIN:STANDARD
TZOFFSETFROM:-0400
TZOFFSETTO:-0500
TZNAME:EST
DTSTART:20231105T060000
END:STANDARD
BEGIN:DAYLIGHT
TZOFFSETFROM:-0500
TZOFFSETTO:-0400
TZNAME:EDT
DTSTART:20240310T070000
END:DAYLIGHT
BEGIN:STANDARD
TZOFFSETFROM:-0400
TZOFFSETTO:-0500
TZNAME:EST
DTSTART:20241103T060000
END:STANDARD
BEGIN:DAYLIGHT
TZOFFSETFROM:-0500
TZOFFSETTO:-0400
TZNAME:EDT
DTSTART:20250309T070000
END:DAYLIGHT
BEGIN:STANDARD
TZOFFSETFROM:-0400
TZOFFSETTO:-0500
TZNAME:EST
DTSTART:20251102T060000
END:STANDARD
END:VTIMEZONE
BEGIN:VEVENT
DTSTART;TZID=America/New_York:20241213T130000
DTEND;TZID=America/New_York:20241213T140000
DTSTAMP:20260425T184206
CREATED:20241119T192144Z
LAST-MODIFIED:20241119T192603Z
UID:35335-1734094800-1734098400@rethinkingclinicaltrials.org
SUMMARY:Grand Rounds December 13\, 2024: Home Blood Pressure Telemonitoring and Nurse Case Management in Black and Hispanic Patients With Stroke: A Randomized Clinical Trial (Gbenga Ogedegbe\, MD\, MPH)
DESCRIPTION:Speaker: \nGbenga Ogedegbe\, MD\, MPH\nDr. Adolph & Margaret Berger Professor of Population Health\nNYU Grossman School of Medicine\nDirector\, Institute for Excellence in Health Equity (IEHE)\nNYU Langone Health \nTitle: Home Blood Pressure Telemonitoring and Nurse Case Management in Black and Hispanic Patients With Stroke: A Randomized Clinical Trial \nDate: Friday\, December 13\, 2024\, 1:00-2:00 p.m. ET \nPlease click the link below to join the webinar: \nhttps://duke.zoom.us/j/97148046164?pwd=O98XZbzScyzxr4D5iyyVA9TMccPX2O.1 \nPasscode: 143672 \nOne-Tap Mobile \n+16468769923\,\,97148046164#\,\,\,\,*143672# US (New York) \n +16469313860\,\,97148046164#\,\,\,\,*143672# US \nAudio Only Option \n+1 646 876 9923 US (New York) \nInternational numbers available: https://duke.zoom.us/u/adkSnOAEdE \nWebinar ID: 971 4804 6164\nPasscode: 143672
URL:https://rethinkingclinicaltrials.org/event/december-13-2024-home-blood-pressure-telemonitoring-and-nurse-case-management-in-black-and-hispanic-patients-with-stroke-a-randomized-clinical-trial-gbenga-ogedegbe-md-mph/
CATEGORIES:Grand Rounds Event
END:VEVENT
END:VCALENDAR