BEGIN:VCALENDAR
VERSION:2.0
PRODID:-//Rethinking Clinical Trials - ECPv6.15.20//NONSGML v1.0//EN
CALSCALE:GREGORIAN
METHOD:PUBLISH
X-ORIGINAL-URL:https://rethinkingclinicaltrials.org
X-WR-CALDESC:Events for Rethinking Clinical Trials
REFRESH-INTERVAL;VALUE=DURATION:PT1H
X-Robots-Tag:noindex
X-PUBLISHED-TTL:PT1H
BEGIN:VTIMEZONE
TZID:America/New_York
BEGIN:DAYLIGHT
TZOFFSETFROM:-0500
TZOFFSETTO:-0400
TZNAME:EDT
DTSTART:20240310T070000
END:DAYLIGHT
BEGIN:STANDARD
TZOFFSETFROM:-0400
TZOFFSETTO:-0500
TZNAME:EST
DTSTART:20241103T060000
END:STANDARD
BEGIN:DAYLIGHT
TZOFFSETFROM:-0500
TZOFFSETTO:-0400
TZNAME:EDT
DTSTART:20250309T070000
END:DAYLIGHT
BEGIN:STANDARD
TZOFFSETFROM:-0400
TZOFFSETTO:-0500
TZNAME:EST
DTSTART:20251102T060000
END:STANDARD
BEGIN:DAYLIGHT
TZOFFSETFROM:-0500
TZOFFSETTO:-0400
TZNAME:EDT
DTSTART:20260308T070000
END:DAYLIGHT
BEGIN:STANDARD
TZOFFSETFROM:-0400
TZOFFSETTO:-0500
TZNAME:EST
DTSTART:20261101T060000
END:STANDARD
END:VTIMEZONE
BEGIN:VEVENT
DTSTART;TZID=America/New_York:20250321T130000
DTEND;TZID=America/New_York:20250321T140000
DTSTAMP:20260425T103908
CREATED:20250226T203656Z
LAST-MODIFIED:20250312T225403Z
UID:35920-1742562000-1742565600@rethinkingclinicaltrials.org
SUMMARY:Grand Rounds March 21\, 2025: Generative Artificial Intelligence in Clinical Trials: A Driver of Efficiency and Democratization of Care (Alexander J. “AJ” Blood\, MD\, MSc)
DESCRIPTION:Speaker: \nAlexander J. “AJ” Blood\, MD\, MSc\nAssociate Director\, Accelerator for Clinical Transformation Research Group\nInstructor of Medicine at Harvard Medical School\nCardiologist and Intensivist\nBrigham and Women’s Hospital \nTitle: Generative Artificial Intelligence in Clinical Trials: A Driver of Efficiency and Democratization of Care \nDate: Friday\, March 21\, 2025\, 1:00-2:00 p.m. ET \nPlease click the link below to join the webinar: \nhttps://duke.zoom.us/j/96025253609?pwd=xr6PQHaPDQ24b2FFaytZw3HblN3k7e.1 \nPasscode: 646677 \nOne-Tap Mobile \n+13052241968\,\,96025253609#\,\,\,\,*646677# US \n+13092053325\,\,96025253609#\,\,\,\,*646677# US \nAudio Only Option \n+1 305 224 1968 \n+1 309 205 3325 \nInternational numbers available: https://duke.zoom.us/u/aJtwMRxLu \nWebinar ID: 960 2525 3609\nPasscode: 646677
URL:https://rethinkingclinicaltrials.org/event/grand-rounds-march-21-2025-generative-artificial-intelligence-in-clinical-trials-a-driver-of-efficiency-and-democratization-of-care-alexander-j-aj-blood-md-msc/
CATEGORIES:Grand Rounds Event
END:VEVENT
END:VCALENDAR