BEGIN:VCALENDAR
VERSION:2.0
PRODID:-//Rethinking Clinical Trials - ECPv6.15.20//NONSGML v1.0//EN
CALSCALE:GREGORIAN
METHOD:PUBLISH
X-WR-CALNAME:Rethinking Clinical Trials
X-ORIGINAL-URL:https://rethinkingclinicaltrials.org
X-WR-CALDESC:Events for Rethinking Clinical Trials
REFRESH-INTERVAL;VALUE=DURATION:PT1H
X-Robots-Tag:noindex
X-PUBLISHED-TTL:PT1H
BEGIN:VTIMEZONE
TZID:America/New_York
BEGIN:DAYLIGHT
TZOFFSETFROM:-0500
TZOFFSETTO:-0400
TZNAME:EDT
DTSTART:20250309T070000
END:DAYLIGHT
BEGIN:STANDARD
TZOFFSETFROM:-0400
TZOFFSETTO:-0500
TZNAME:EST
DTSTART:20251102T060000
END:STANDARD
BEGIN:DAYLIGHT
TZOFFSETFROM:-0500
TZOFFSETTO:-0400
TZNAME:EDT
DTSTART:20260308T070000
END:DAYLIGHT
BEGIN:STANDARD
TZOFFSETFROM:-0400
TZOFFSETTO:-0500
TZNAME:EST
DTSTART:20261101T060000
END:STANDARD
BEGIN:DAYLIGHT
TZOFFSETFROM:-0500
TZOFFSETTO:-0400
TZNAME:EDT
DTSTART:20270314T070000
END:DAYLIGHT
BEGIN:STANDARD
TZOFFSETFROM:-0400
TZOFFSETTO:-0500
TZNAME:EST
DTSTART:20271107T060000
END:STANDARD
END:VTIMEZONE
BEGIN:VEVENT
DTSTART;TZID=America/New_York:20260109T130000
DTEND;TZID=America/New_York:20260109T140000
DTSTAMP:20260425T200852
CREATED:20251229T154611Z
LAST-MODIFIED:20251229T154611Z
UID:39926-1767963600-1767967200@rethinkingclinicaltrials.org
SUMMARY:Grand Rounds January 9\, 2026: Pragmatic Care Embedded Randomization: Insights From the KP-VACCINATE Megatrial (Ankeet S. Bhatt\, MD\, MBA\, ScM)
DESCRIPTION:Speaker: \nAnkeet S. Bhatt\, MD\, MBA\, ScM\nCardiologist\, Kaiser Permanente San Francisco Medical Center\nResearch Scientist\, Kaiser Permanente Northern California Division of Research\nAssistant Professor\, Kaiser Permanente Bernard J. Tyson School of Medicine\nAdjunct Professor\, Stanford University School of Medicine \nTitle: Pragmatic Care Embedded Randomization: Insights From the KP-VACCINATE Megatrial\n \nDate: Friday\, January 9\, 2026\, 1:00-2:00 p.m. ET \nPlease click the link below to join the webinar: https://duke.zoom.us/j/97022995247?pwd=8yLkb5iyrSAyKHQy4ixMoFr7ZV48oG.1 \nPasscode: 365468 \nOne-Tap Mobile \n+13052241968\,\,97022995247#\,\,\,\,*365468# \n+13092053325\,\,97022995247#\,\,\,\,*365468#  \nAudio Only Option \n+1 305 224 1968 \n+1 309 205 3325  \nInternational numbers available: https://duke.zoom.us/u/acC9vkZ89 \nWebinar ID: 970 2299 5247\nPasscode: 365468
URL:https://rethinkingclinicaltrials.org/event/grand-rounds-january-9-2026-pragmatic-care-embedded-randomization-insights-from-the-kp-vaccinate-megatrial-ankeet-s-bhatt-md-mba-scm/
CATEGORIES:Grand Rounds Event
END:VEVENT
BEGIN:VEVENT
DTSTART;TZID=America/New_York:20260116T130000
DTEND;TZID=America/New_York:20260116T140000
DTSTAMP:20260425T200852
CREATED:20251229T155917Z
LAST-MODIFIED:20251229T155917Z
UID:39929-1768568400-1768572000@rethinkingclinicaltrials.org
SUMMARY:Grand Rounds January 16\, 2026: Can Financial Incentives Increase Participation in a Memory Concerns Registry? (Mireille Jacobson\, PhD)
DESCRIPTION:Speaker: \nMireille Jacobson\, PhD \nProfessor\, University of Southern California Davis \nSchool of Gerontology and Schaeffer Institute \nTitle: Can Financial Incentives Increase Participation in a Memory Concerns Registry?\n \nDate: Friday\, January 16\, 2026\, 1:00-2:00 p.m. ET \nPlease click the link below to join the webinar: https://duke.zoom.us/j/95155433564?pwd=iptC5yfCRRr6Abjan9r91Y6qyI32P6.1 \nPasscode: 625551 \nOne-Tap Mobile \n+16468769923\,\,95155433564#\,\,\,\,*625551# \n+16469313860\,\,95155433564#\,\,\,\,*625551#  \nAudio Only Option \n+1 646 876 9923\n+1 646 931 3860  \nInternational numbers available: https://duke.zoom.us/u/aesOJRanw \nWebinar ID: 951 5543 3564\nPasscode: 625551
URL:https://rethinkingclinicaltrials.org/event/grand-rounds-january-16-2026-can-financial-incentives-increase-participation-in-a-memory-concerns-registry-mireille-jacobson-phd/
CATEGORIES:Grand Rounds Event
END:VEVENT
BEGIN:VEVENT
DTSTART;TZID=America/New_York:20260123T130000
DTEND;TZID=America/New_York:20260123T140000
DTSTAMP:20260425T200852
CREATED:20260113T175240Z
LAST-MODIFIED:20260113T175501Z
UID:40080-1769173200-1769176800@rethinkingclinicaltrials.org
SUMMARY:Grand Rounds January 23\, 2026: DASH Groceries to Stop Hypertension: Results From the GoFresh Trial (Stephen P. Juraschek\, MD\, PhD\, FAHA\, AHSCP-CHS)
DESCRIPTION:Speaker: \nStephen P. Juraschek\, MD\, PhD\, FAHA\, AHSCP-CHS\nAssociate Professor of Medicine\nHCA Hypertension Center Director & Beth Israel Deaconess Medical Center \nTitle: DASH Groceries to Stop Hypertension: Results From the GoFresh Trial\n \nDate: Friday\, January 23\, 2026\, 1:00-2:00 p.m. ET \nPlease click the link below to join the webinar: https://duke.zoom.us/j/91486922120?pwd=hZ1RgfAOMnfVbqjeBL7Toph9gAgoTa.1 \nPasscode: 749303 \nOne-Tap Mobile \n+16468769923\,\,91486922120#\,\,\,\,*749303#\n+16469313860\,\,91486922120#\,\,\,\,*749303# \nAudio Only Option \n+1 646 876 9923\n+1 646 931 3860 \nInternational numbers available: https://duke.zoom.us/u/ahdAZAvu5 \nWebinar ID: 914 8692 2120\nPasscode: 749303
URL:https://rethinkingclinicaltrials.org/event/grand-rounds-january-23-2026-dash-groceries-to-stop-hypertension-results-from-the-gofresh-trial-stephen-p-juraschek-md-phd-faha-ahscp-chs/
CATEGORIES:Grand Rounds Event
END:VEVENT
BEGIN:VEVENT
DTSTART;TZID=America/New_York:20260130T130000
DTEND;TZID=America/New_York:20260130T140000
DTSTAMP:20260425T200852
CREATED:20260113T180025Z
LAST-MODIFIED:20260113T180025Z
UID:40082-1769778000-1769781600@rethinkingclinicaltrials.org
SUMMARY:Grand Rounds January 30\, 2026: A Pragmatic Randomized Controlled Trial of Ambient Artificial Intelligence to Improve Health Practitioner Well-Being (Majid Afshar\, MD\, MS; Mary Ryan Baumann\, PhD)
DESCRIPTION:Speakers: \nMajid Afshar\, MD\, MS\nAssociate Professor\nDirector\, Learning Health Systems\nDepartments of Medicine and Biostatistics & Medical Informatics\nUniversity of Wisconsin-Madison \nMary Ryan Baumann\, PhD\nAssistant Professor\nDepartments of Population Health Sciences and Biostatistics & Medical Informatics\nUniversity of Wisconsin-Madison \nTitle: A Pragmatic Randomized Controlled Trial of Ambient Artificial Intelligence to Improve Health Practitioner Well-Being \nDate: Friday\, January 30\, 2026\, 1:00-2:00 p.m. ET \nPlease click the link below to join the webinar: https://duke.zoom.us/j/91326231433?pwd=ilyydpaXq8VLliEsGtqbvobA4y07IC.1 \nPasscode: 482816 \nOne-Tap Mobile \n+16469313860\,\,91326231433#\,\,\,\,*482816# \n+13017158592\,\,91326231433#\,\,\,\,*482816#  \nAudio Only Option \n+1 646 931 3860\n+1 301 715 8592  \nInternational numbers available: https://duke.zoom.us/u/aebRZGrmJR \nWebinar ID: 913 2623 1433 \nPasscode: 482816
URL:https://rethinkingclinicaltrials.org/event/grand-rounds-january-30-2026-a-pragmatic-randomized-controlled-trial-of-ambient-artificial-intelligence-to-improve-health-practitioner-well-being-majid-afshar-md-ms-mary-ryan-baumann-phd/
CATEGORIES:Grand Rounds Event
END:VEVENT
END:VCALENDAR