BEGIN:VCALENDAR
VERSION:2.0
PRODID:-//Rethinking Clinical Trials - ECPv6.15.20//NONSGML v1.0//EN
CALSCALE:GREGORIAN
METHOD:PUBLISH
X-ORIGINAL-URL:https://rethinkingclinicaltrials.org
X-WR-CALDESC:Events for Rethinking Clinical Trials
REFRESH-INTERVAL;VALUE=DURATION:PT1H
X-Robots-Tag:noindex
X-PUBLISHED-TTL:PT1H
BEGIN:VTIMEZONE
TZID:America/New_York
BEGIN:DAYLIGHT
TZOFFSETFROM:-0500
TZOFFSETTO:-0400
TZNAME:EDT
DTSTART:20250309T070000
END:DAYLIGHT
BEGIN:STANDARD
TZOFFSETFROM:-0400
TZOFFSETTO:-0500
TZNAME:EST
DTSTART:20251102T060000
END:STANDARD
BEGIN:DAYLIGHT
TZOFFSETFROM:-0500
TZOFFSETTO:-0400
TZNAME:EDT
DTSTART:20260308T070000
END:DAYLIGHT
BEGIN:STANDARD
TZOFFSETFROM:-0400
TZOFFSETTO:-0500
TZNAME:EST
DTSTART:20261101T060000
END:STANDARD
BEGIN:DAYLIGHT
TZOFFSETFROM:-0500
TZOFFSETTO:-0400
TZNAME:EDT
DTSTART:20270314T070000
END:DAYLIGHT
BEGIN:STANDARD
TZOFFSETFROM:-0400
TZOFFSETTO:-0500
TZNAME:EST
DTSTART:20271107T060000
END:STANDARD
END:VTIMEZONE
BEGIN:VEVENT
DTSTART;TZID=America/New_York:20260306T130000
DTEND;TZID=America/New_York:20260306T140000
DTSTAMP:20260425T201726
CREATED:20260203T215240Z
LAST-MODIFIED:20260311T185850Z
UID:40205-1772802000-1772805600@rethinkingclinicaltrials.org
SUMMARY:Grand Rounds March 6\, 2026: Bringing Primary Care Clinical Trials Research Into the 21st Century: Lessons Learned and Developments From Large-Scale European Adaptive Platform Trials of Therapeutics for Acute Respiratory Infections (Christopher C. Butler\, BA\, MBChB\, DCH\, CCH\, MD\, FRCGP)
DESCRIPTION:Join the webinar: https://duke.zoom.us/j/94319236794?pwd=dlbIVzOxEnLnj5MG6gsd9bxPv4fE2s.1 \nPasscode: 319575 \nTitle: Bringing Primary Care Clinical Trials Research Into the 21st Century: Lessons Learned and Developments From Large-Scale European Adaptive Platform Trials of Therapeutics for Acute Respiratory Infections \nSpeaker: \nChristopher C. Butler\, BA\, MBChB\, DCH\, CCH\, MD\, FRCGP\nAssociate Head for Research\nProfessor of Primary Care\nProfessorial Fellow\, Trinity College\nClinical Director\, Primary Care Clinical Trials Unit\nUniversity of Oxford \nDate: Friday\, March 6\, 2026\, 1:00-2:00 p.m. ET \nOne-Tap Mobile \n+13017158592\,\,94319236794#\,\,\,\,*319575#\n+13052241968\,\,94319236794#\,\,\,\,*319575#  \nAudio Only Option \n+1 301 715 8592\n+1 305 224 1968 \nInternational numbers available: https://duke.zoom.us/u/abP0xiUJrv \nWebinar ID: 943 1923 6794\nPasscode: 319575
URL:https://rethinkingclinicaltrials.org/event/grand-rounds-march-6-2026-bringing-primary-care-clinical-trials-research-into-the-21st-century-lessons-learned-and-developments-from-large-scale-european-adaptive-platform-trials-of-therapeutics-fo/
CATEGORIES:Grand Rounds Event
END:VEVENT
BEGIN:VEVENT
DTSTART;TZID=America/New_York:20260313T130000
DTEND;TZID=America/New_York:20260313T140000
DTSTAMP:20260425T201726
CREATED:20260223T161823Z
LAST-MODIFIED:20260318T134249Z
UID:40424-1773406800-1773410400@rethinkingclinicaltrials.org
SUMMARY:Grand Rounds March 13\, 2026: Behavioral Economics and Medication Adherence for Hypertension: A Randomized Clinical Trial (John A. Dodson\, MD\, MPH)
DESCRIPTION:Join the webinar: https://duke.zoom.us/j/98174419562?pwd=N3fF3KQMBbvQNx58w0u3GJpEYY6bPI.1 \nPasscode: 371666 \nTitle: Behavioral Economics and Medication Adherence for Hypertension: A Randomized Clinical Trial \nSpeaker: \nJohn A. Dodson\, MD\, MPH\nAssociate Professor of Medicine and Population Health\nDirector\, Geriatric Cardiology Program\nDirector\, Cardiovascular Digital Health Laboratory\nNYU Langone Health\nNYU Grossman School of Medicine \nDate: Friday\, March 13\, 2026\, 1:00-2:00 p.m. ET \nOne-Tap Mobile \n+16468769923\,\,98174419562#\,\,\,\,*371666# US\n+16469313860\,\,98174419562#\,\,\,\,*371666#  \nAudio Only Option \n+1 646 876 9923\n+1 646 931 3860  \nInternational numbers available: https://duke.zoom.us/u/adBkDsMqfb \nWebinar ID: 981 7441 9562\nPasscode: 371666
URL:https://rethinkingclinicaltrials.org/event/grand-rounds-march-13-2026-behavioral-economics-and-medication-adherence-for-hypertension-a-randomized-clinical-trial-john-a-dodson-md-mph/
CATEGORIES:Grand Rounds Event
END:VEVENT
BEGIN:VEVENT
DTSTART;TZID=America/New_York:20260320T130000
DTEND;TZID=America/New_York:20260320T140000
DTSTAMP:20260425T201726
CREATED:20260223T163135Z
LAST-MODIFIED:20260223T163135Z
UID:40430-1774011600-1774015200@rethinkingclinicaltrials.org
SUMMARY:Grand Rounds March 20\, 2026: FLUID: A Cross-Over Trial of Hospital Wide Ringer’s Lactate vs Normal Saline (Lauralyn McIntyre\, MD\, FRCPC\, MSc; Monica Taljaard\, PhD)
DESCRIPTION:Join the webinar: https://duke.zoom.us/j/99552474559?pwd=FRcC8BqOgDLKwOnP7p3k1TeqOG3tuG.1 \nPasscode: 034815 \nTitle: FLUID: A Cross-Over Trial of Hospital Wide Ringer’s Lactate vs Normal Saline \nSpeakers: \nLauralyn McIntyre\, MD\, FRCPC\, MSc\nSenior Scientist\, Acute Care Research Program\nOttawa Hospital Research Institute\nProfessor\, University of Ottawa \nMonica Taljaard\, PhD\nSenior Scientist\nMethodological and Implementation Research\nOttawa Hospital Research Institute\nFull Professor\, School of Epidemiology and Public Health\nUniversity of Ottawa \nDate: Friday\, March 20\, 2026\, 1:00-2:00 p.m. ET \nOne-Tap Mobile \n+16469313860\,\,99552474559#\,\,\,\,*034815#\n+13017158592\,\,99552474559#\,\,\,\,*034815# \nAudio Only Option \n+1 646 931 3860\n+1 301 715 8592 \nInternational numbers available: https://duke.zoom.us/u/auQAD3uS6 \nWebinar ID: 995 5247 4559 \nPasscode: 034815
URL:https://rethinkingclinicaltrials.org/event/grand-rounds-march-20-2026-fluid-a-cross-over-trial-of-hospital-wide-ringers-lactate-vs-normal-saline-lauralyn-mcintyre-md-frcpc-msc-monica-taljaard-phd/
CATEGORIES:Grand Rounds Event
END:VEVENT
BEGIN:VEVENT
DTSTART;TZID=America/New_York:20260327T130000
DTEND;TZID=America/New_York:20260327T140000
DTSTAMP:20260425T201726
CREATED:20260203T215716Z
LAST-MODIFIED:20260203T215716Z
UID:40207-1774616400-1774620000@rethinkingclinicaltrials.org
SUMMARY:Grand Rounds March 27\, 2026: Text Messaging and Video Stories to Support Hypertension Self-Management in Black Veterans: A Randomized Clinical Trial (Sarah L. Cutrona\, MD\, MPH)
DESCRIPTION:Join the webinar: https://duke.zoom.us/j/98879362324?pwd=qYsmTt9OEyFG3EaL019QgsLVq3sYDn.1 \nPasscode: 436216 \nTitle: Text Messaging and Video Stories to Support Hypertension Self-Management in Black Veterans: A Randomized Clinical Trial \nSpeaker: \nSarah L. Cutrona\, MD\, MPH\nActing Director\, Center for Health Optimization and Implementation Research (CHOIR)\nVA Bedford Healthcare System\nProfessor\, Division of Health Informatics and Implementation Science\nDepartment of Population and Quantitative Health Sciences\nUMass Chan Medical School \nDate: Friday\, March 27\, 2026\, 1:00-2:00 p.m. ET \nOne-Tap Mobile \n+13092053325\,\,98879362324#\,\,\,\,*436216#\n+13126266799\,\,98879362324#\,\,\,\,*436216#  \nAudio Only Option \n+1 309 205 3325\n+1 312 626 6799 \nInternational numbers available: https://duke.zoom.us/u/acr14imkIt \nWebinar ID: 988 7936 2324\nPasscode: 436216
URL:https://rethinkingclinicaltrials.org/event/grand-rounds-march-27-2026-text-messaging-and-video-stories-to-support-hypertension-self-management-in-black-veterans-a-randomized-clinical-trial-sarah-l-cutrona-md-mph/
CATEGORIES:Grand Rounds Event
END:VEVENT
BEGIN:VEVENT
DTSTART;TZID=America/New_York:20260403T130000
DTEND;TZID=America/New_York:20260403T140000
DTSTAMP:20260425T201726
CREATED:20260209T210716Z
LAST-MODIFIED:20260406T143258Z
UID:40269-1775221200-1775224800@rethinkingclinicaltrials.org
SUMMARY:Grand Rounds April 3\, 2026: AI for Diabetes Prevention (Nestoras Mathioudakis\, MD\, MHS)
DESCRIPTION:Join the webinar: https://duke.zoom.us/j/95834413725?pwd=8rFVl3scmBRUabiz2JCrr5g1aIdIQH.1 \nPasscode: 457732 \nTitle: AI for Diabetes Prevention \nSpeaker: \nNestoras Mathioudakis\, MD\, MHS\nAssociate Professor of Medicine\nJohns Hopkins University School of Medicine \nDate: Friday\, April 3\, 2026\, 1:00-2:00 p.m. ET \nOne-Tap Mobile \n+13126266799\,\,95834413725#\,\,\,\,*457732#\n+16468769923\,\,95834413725#\,\,\,\,*457732# \nAudio Only Option \n+1 312 626 6799\n+1 646 876 9923 \nInternational numbers available: https://duke.zoom.us/u/ac58oM7X7V \nWebinar ID: 958 3441 3725\nPasscode: 457732
URL:https://rethinkingclinicaltrials.org/event/grand-rounds-april-3-2026-ai-for-diabetes-prevention-nestoras-mathioudakis-md-mhs/
CATEGORIES:Grand Rounds Event
END:VEVENT
BEGIN:VEVENT
DTSTART;TZID=America/New_York:20260410T130000
DTEND;TZID=America/New_York:20260410T140000
DTSTAMP:20260425T201726
CREATED:20260310T155302Z
LAST-MODIFIED:20260310T155302Z
UID:40591-1775826000-1775829600@rethinkingclinicaltrials.org
SUMMARY:Grand Rounds April 10\, 2026: Impact of Behavioral Science-Based Electronic Health Record Tools on Deprescribing for Older Adults (Julie Lauffenburger\, PharmD\, PhD)
DESCRIPTION:Join the webinar: https://duke.zoom.us/j/95737711530?pwd=WDHDhfijWQA58qgyegJEIPY3HmNmSv.1 \nPasscode: 931340 \nTitle: Impact of Behavioral Science-Based Electronic Health Record Tools on Deprescribing for Older Adults \nSpeaker: \nJulie Lauffenburger\, PharmD\, PhD\nAssociate Professor of Medicine\nBrigham and Women’s Hospital and Harvard Medical School \nDate: Friday\, April 10\, 2026\, 1:00-2:00 p.m. ET \nOne-Tap Mobile \n+13017158592\,\,95737711530#\,\,\,\,*931340#\n+13052241968\,\,95737711530#\,\,\,\,*931340# \nAudio Only Option \n+1 301 715 8592\n+1 305 224 1968 \nInternational numbers available: https://duke.zoom.us/u/adamYFUKiG \nWebinar ID: 957 3771 1530\nPasscode: 931340
URL:https://rethinkingclinicaltrials.org/event/grand-rounds-april-10-2026-impact-of-behavioral-science-based-electronic-health-record-tools-on-deprescribing-for-older-adults-julie-lauffenburger-pharmd-phd/
CATEGORIES:Grand Rounds Event
END:VEVENT
BEGIN:VEVENT
DTSTART;TZID=America/New_York:20260417T130000
DTEND;TZID=America/New_York:20260417T140000
DTSTAMP:20260425T201726
CREATED:20260324T173351Z
LAST-MODIFIED:20260324T173351Z
UID:40754-1776430800-1776434400@rethinkingclinicaltrials.org
SUMMARY:Grand Rounds April 17\, 2026: Keeping a Human in the Loop: Scientific Publishing and AI (Roy Perlis\, MD\, MSc)
DESCRIPTION:Join the webinar: https://duke.zoom.us/j/93579352332?pwd=PHTSdxudlxVfFxztMNM3CwUb0Miykb.1 \nPasscode: 827623 \nTitle: Keeping a Human in the Loop: Scientific Publishing and AI \nSpeaker: \nRoy Perlis\, MD MSc\nEditor in Chief\, JAMA+ AI\nDirector\, MGH Center for Quantitative Health\nVice Chair for Research\, Mass General-Brigham Psychiatry\nProfessor of Psychiatry\, Harvard Medical School \nDate: Friday\, April 17\, 2026\, 1:00-2:00 p.m. ET \nOne-Tap Mobile \n+13017158592\,\,93579352332#\,\,\,\,*827623# \n+13052241968\,\,93579352332#\,\,\,\,*827623#  \nAudio Only Option \n+1 301 715 8592 \n+1 305 224 1968  \nInternational numbers available: https://duke.zoom.us/u/aClxITXw1 \nWebinar ID: 935 7935 2332\nPasscode: 827623
URL:https://rethinkingclinicaltrials.org/event/grand-rounds-april-17-2026-keeping-a-human-in-the-loop-scientific-publishing-and-ai-roy-perlis-md-msc/
CATEGORIES:Grand Rounds Event
END:VEVENT
BEGIN:VEVENT
DTSTART;TZID=America/New_York:20260424T130000
DTEND;TZID=America/New_York:20260424T140000
DTSTAMP:20260425T201726
CREATED:20260330T163229Z
LAST-MODIFIED:20260330T163229Z
UID:40776-1777035600-1777039200@rethinkingclinicaltrials.org
SUMMARY:Grand Rounds April 24\, 2026: Key Insights From the UG3\, Personalized Auricular Point Acupressure for Chronic Pain Self-Management in Rural Populations\, and the Path Forward for the UH3 (Jennifer Kawi\, PhD\, MSN\, FNP-BC\, CNE\, FAAN; Hulin Wu\, PhD\, MS; Jane Bolin\, PhD\, JD\, RN)
DESCRIPTION:Join the webinar: https://duke.zoom.us/j/98027981528?pwd=TzCCBnKeoqRDN5bpwSm2AAVjVU44T5.1 \nPasscode: 607097 \nTitle: Key Insights From the UG3\, Personalized Auricular Point Acupressure for Chronic Pain Self-Management in Rural Populations\, and the Path Forward for the UH3 \nSpeakers: \nJennifer Kawi\, PhD\, MSN\, FNP-BC\, CNE\, FAAN\nMaria C. and Christopher J. Pappas Family Distinguished Chair in Nursing\nLee and Joseph Jamail Distinguished Professor\nDepartment of Research\nCizik School of Nursing at UTHealth Houston  \nHulin Wu\, PhD\, MS\nThe Betty Wheless Trotter Professor & Chair\nDepartment of Biostatistics & Data Science\nSchool of Public Health at UTHealth Houston \nJane Bolin\, PhD\, JD\, RN\nSenior Research Professor\nCollege of Nursing\, UNT Health Science Center at Fort Worth\nRegents Professor Emeritus \nTexas A&M School of Nursing \nDate: Friday\, April 24\, 2026\, 1:00-2:00 p.m. ET \nOne-Tap Mobile \n+16468769923\,\,98027981528#\,\,\,\,*607097# \n+16469313860\,\,98027981528#\,\,\,\,*607097#  \nAudio Only Option \n+1 646 876 9923 \n+1 646 931 3860  \nInternational numbers available: https://duke.zoom.us/u/adKj25DITB \nWebinar ID: 980 2798 1528 \nPasscode: 607097
URL:https://rethinkingclinicaltrials.org/event/grand-rounds-april-24-2026-key-insights-from-the-ug3-personalized-auricular-point-acupressure-for-chronic-pain-self-management-in-rural-populations-and-the-path-forward-for-the-uh3-jennifer-kawi/
CATEGORIES:Grand Rounds Event
END:VEVENT
BEGIN:VEVENT
DTSTART;TZID=America/New_York:20260501T130000
DTEND;TZID=America/New_York:20260501T140000
DTSTAMP:20260425T201726
CREATED:20260420T212916Z
LAST-MODIFIED:20260420T212916Z
UID:40928-1777640400-1777644000@rethinkingclinicaltrials.org
SUMMARY:Grand Rounds May 1\, 2026: Adapting and Implementing a Nurse Care Management Model to Care for Rural Patients With Chronic Pain: Results and Lessons Learned From the Feasibility Phase (Sebastian Tong\, MD\, MPH; Kushang Patel\, PhD\, MPH)
DESCRIPTION:Join the webinar: https://duke.zoom.us/j/98687006646?pwd=9qaUfoikDjW7l7SZ1UsCsNS0rBoIO1.1 \nPasscode: 231262 \nTitle: Adapting and Implementing a Nurse Care Management Model to Care for Rural Patients With Chronic Pain: Results and Lessons Learned From the Feasibility Phase \nSpeakers: \nSebastian Tong\, MD\, MPH\nAssociate Professor\, Department of Family Medicine\nUniversity of Washington \nKushang Patel\, PhD\, MPH\nResearch Professor\, Department of Anesthesiology and Pain Medicine\nUniversity of Washington \nDate: Friday\, May 1\, 2026\, 1:00-2:00 p.m. ET \nOne-Tap Mobile \n+13017158592\,\,98687006646#\,\,\,\,*231262# \n+13052241968\,\,98687006646#\,\,\,\,*231262#  \nAudio Only Option \n+1 301 715 8592 \n+1 305 224 1968  \nInternational numbers available: https://duke.zoom.us/u/aoLGFsize \nWebinar ID: 986 8700 6646 \nPasscode: 231262
URL:https://rethinkingclinicaltrials.org/event/grand-rounds-may-1-2026-adapting-and-implementing-a-nurse-care-management-model-to-care-for-rural-patients-with-chronic-pain-results-and-lessons-learned-from-the-feasibility-phase-sebastian-tong/
CATEGORIES:Grand Rounds Event
END:VEVENT
END:VCALENDAR