BEGIN:VCALENDAR
VERSION:2.0
PRODID:-//Rethinking Clinical Trials - ECPv6.15.20//NONSGML v1.0//EN
CALSCALE:GREGORIAN
METHOD:PUBLISH
X-ORIGINAL-URL:https://rethinkingclinicaltrials.org
X-WR-CALDESC:Events for Rethinking Clinical Trials
REFRESH-INTERVAL;VALUE=DURATION:PT1H
X-Robots-Tag:noindex
X-PUBLISHED-TTL:PT1H
BEGIN:VTIMEZONE
TZID:America/New_York
BEGIN:DAYLIGHT
TZOFFSETFROM:-0500
TZOFFSETTO:-0400
TZNAME:EDT
DTSTART:20250309T070000
END:DAYLIGHT
BEGIN:STANDARD
TZOFFSETFROM:-0400
TZOFFSETTO:-0500
TZNAME:EST
DTSTART:20251102T060000
END:STANDARD
BEGIN:DAYLIGHT
TZOFFSETFROM:-0500
TZOFFSETTO:-0400
TZNAME:EDT
DTSTART:20260308T070000
END:DAYLIGHT
BEGIN:STANDARD
TZOFFSETFROM:-0400
TZOFFSETTO:-0500
TZNAME:EST
DTSTART:20261101T060000
END:STANDARD
BEGIN:DAYLIGHT
TZOFFSETFROM:-0500
TZOFFSETTO:-0400
TZNAME:EDT
DTSTART:20270314T070000
END:DAYLIGHT
BEGIN:STANDARD
TZOFFSETFROM:-0400
TZOFFSETTO:-0500
TZNAME:EST
DTSTART:20271107T060000
END:STANDARD
END:VTIMEZONE
BEGIN:VEVENT
DTSTART;TZID=America/New_York:20260501T130000
DTEND;TZID=America/New_York:20260501T140000
DTSTAMP:20260425T113310
CREATED:20260420T212916Z
LAST-MODIFIED:20260420T212916Z
UID:40928-1777640400-1777644000@rethinkingclinicaltrials.org
SUMMARY:Grand Rounds May 1\, 2026: Adapting and Implementing a Nurse Care Management Model to Care for Rural Patients With Chronic Pain: Results and Lessons Learned From the Feasibility Phase (Sebastian Tong\, MD\, MPH; Kushang Patel\, PhD\, MPH)
DESCRIPTION:Join the webinar: https://duke.zoom.us/j/98687006646?pwd=9qaUfoikDjW7l7SZ1UsCsNS0rBoIO1.1 \nPasscode: 231262 \nTitle: Adapting and Implementing a Nurse Care Management Model to Care for Rural Patients With Chronic Pain: Results and Lessons Learned From the Feasibility Phase \nSpeakers: \nSebastian Tong\, MD\, MPH\nAssociate Professor\, Department of Family Medicine\nUniversity of Washington \nKushang Patel\, PhD\, MPH\nResearch Professor\, Department of Anesthesiology and Pain Medicine\nUniversity of Washington \nDate: Friday\, May 1\, 2026\, 1:00-2:00 p.m. ET \nOne-Tap Mobile \n+13017158592\,\,98687006646#\,\,\,\,*231262# \n+13052241968\,\,98687006646#\,\,\,\,*231262#  \nAudio Only Option \n+1 301 715 8592 \n+1 305 224 1968  \nInternational numbers available: https://duke.zoom.us/u/aoLGFsize \nWebinar ID: 986 8700 6646 \nPasscode: 231262
URL:https://rethinkingclinicaltrials.org/event/grand-rounds-may-1-2026-adapting-and-implementing-a-nurse-care-management-model-to-care-for-rural-patients-with-chronic-pain-results-and-lessons-learned-from-the-feasibility-phase-sebastian-tong/
CATEGORIES:Grand Rounds Event
END:VEVENT
END:VCALENDAR