BEGIN:VCALENDAR
VERSION:2.0
PRODID:-//Rethinking Clinical Trials - ECPv6.15.20//NONSGML v1.0//EN
CALSCALE:GREGORIAN
METHOD:PUBLISH
X-ORIGINAL-URL:https://rethinkingclinicaltrials.org
X-WR-CALDESC:Events for Rethinking Clinical Trials
REFRESH-INTERVAL;VALUE=DURATION:PT1H
X-Robots-Tag:noindex
X-PUBLISHED-TTL:PT1H
BEGIN:VTIMEZONE
TZID:America/New_York
BEGIN:DAYLIGHT
TZOFFSETFROM:-0500
TZOFFSETTO:-0400
TZNAME:EDT
DTSTART:20250309T070000
END:DAYLIGHT
BEGIN:STANDARD
TZOFFSETFROM:-0400
TZOFFSETTO:-0500
TZNAME:EST
DTSTART:20251102T060000
END:STANDARD
BEGIN:DAYLIGHT
TZOFFSETFROM:-0500
TZOFFSETTO:-0400
TZNAME:EDT
DTSTART:20260308T070000
END:DAYLIGHT
BEGIN:STANDARD
TZOFFSETFROM:-0400
TZOFFSETTO:-0500
TZNAME:EST
DTSTART:20261101T060000
END:STANDARD
BEGIN:DAYLIGHT
TZOFFSETFROM:-0500
TZOFFSETTO:-0400
TZNAME:EDT
DTSTART:20270314T070000
END:DAYLIGHT
BEGIN:STANDARD
TZOFFSETFROM:-0400
TZOFFSETTO:-0500
TZNAME:EST
DTSTART:20271107T060000
END:STANDARD
END:VTIMEZONE
BEGIN:VEVENT
DTSTART;TZID=America/New_York:20260403T130000
DTEND;TZID=America/New_York:20260403T140000
DTSTAMP:20260425T113607
CREATED:20260209T210716Z
LAST-MODIFIED:20260406T143258Z
UID:40269-1775221200-1775224800@rethinkingclinicaltrials.org
SUMMARY:Grand Rounds April 3\, 2026: AI for Diabetes Prevention (Nestoras Mathioudakis\, MD\, MHS)
DESCRIPTION:Join the webinar: https://duke.zoom.us/j/95834413725?pwd=8rFVl3scmBRUabiz2JCrr5g1aIdIQH.1 \nPasscode: 457732 \nTitle: AI for Diabetes Prevention \nSpeaker: \nNestoras Mathioudakis\, MD\, MHS\nAssociate Professor of Medicine\nJohns Hopkins University School of Medicine \nDate: Friday\, April 3\, 2026\, 1:00-2:00 p.m. ET \nOne-Tap Mobile \n+13126266799\,\,95834413725#\,\,\,\,*457732#\n+16468769923\,\,95834413725#\,\,\,\,*457732# \nAudio Only Option \n+1 312 626 6799\n+1 646 876 9923 \nInternational numbers available: https://duke.zoom.us/u/ac58oM7X7V \nWebinar ID: 958 3441 3725\nPasscode: 457732
URL:https://rethinkingclinicaltrials.org/event/grand-rounds-april-3-2026-ai-for-diabetes-prevention-nestoras-mathioudakis-md-mhs/
CATEGORIES:Grand Rounds Event
END:VEVENT
END:VCALENDAR