BEGIN:VCALENDAR
VERSION:2.0
PRODID:-//Rethinking Clinical Trials - ECPv6.15.20//NONSGML v1.0//EN
CALSCALE:GREGORIAN
METHOD:PUBLISH
X-WR-CALNAME:Rethinking Clinical Trials
X-ORIGINAL-URL:https://rethinkingclinicaltrials.org
X-WR-CALDESC:Events for Rethinking Clinical Trials
REFRESH-INTERVAL;VALUE=DURATION:PT1H
X-Robots-Tag:noindex
X-PUBLISHED-TTL:PT1H
BEGIN:VTIMEZONE
TZID:America/New_York
BEGIN:DAYLIGHT
TZOFFSETFROM:-0500
TZOFFSETTO:-0400
TZNAME:EDT
DTSTART:20250309T070000
END:DAYLIGHT
BEGIN:STANDARD
TZOFFSETFROM:-0400
TZOFFSETTO:-0500
TZNAME:EST
DTSTART:20251102T060000
END:STANDARD
BEGIN:DAYLIGHT
TZOFFSETFROM:-0500
TZOFFSETTO:-0400
TZNAME:EDT
DTSTART:20260308T070000
END:DAYLIGHT
BEGIN:STANDARD
TZOFFSETFROM:-0400
TZOFFSETTO:-0500
TZNAME:EST
DTSTART:20261101T060000
END:STANDARD
BEGIN:DAYLIGHT
TZOFFSETFROM:-0500
TZOFFSETTO:-0400
TZNAME:EDT
DTSTART:20270314T070000
END:DAYLIGHT
BEGIN:STANDARD
TZOFFSETFROM:-0400
TZOFFSETTO:-0500
TZNAME:EST
DTSTART:20271107T060000
END:STANDARD
END:VTIMEZONE
BEGIN:VEVENT
DTSTART;TZID=America/New_York:20260220T130000
DTEND;TZID=America/New_York:20260220T140000
DTSTAMP:20260425T200748
CREATED:20260128T192144Z
LAST-MODIFIED:20260203T214339Z
UID:40155-1771592400-1771596000@rethinkingclinicaltrials.org
SUMMARY:Grand Rounds February 20\, 2026: Applying Mind-Body Skills for Pain Using a Whole Health Telehealth Intervention (RAMP): Early Progress and Lessons Learned (Diana Burgess\, PhD; Roni Evans\, DC\, MS\, PhD; Katie Hadlandsmyth\, PhD)
DESCRIPTION:Join the webinar: https://duke.zoom.us/j/93501751057?pwd=Jha0pVbt6nNlTFw4wm2h6jei784VWV.1 \nPasscode: 691159 \nTitle: Applying Mind-Body Skills for Pain Using a Whole Health Telehealth Intervention (RAMP): Early Progress and Lessons Learned \nSpeakers: \nDiana Burgess\, PhD\nProfessor of Medicine\, \nUniversity of Minnesota\nDirector\, VA Advanced Fellowship Program in Health Systems Research\, Center for Care Delivery and Outcomes Research (CCDOR)\,\nMinneapolis Veterans Affairs Healthcare System\nDirector\, QUERI Complementary and Integrative Health Evaluation Center (CIHEC)\, \nVeterans Affairs Healthcare System \nRoni Evans\, DC\, MS\, PhD\nResearch Professor\nDirector\, Integrative Health & Wellbeing Research Program\nEarl E. Bakken Center for Spirituality & Healing\, \nUniversity of Minnesota  \nKatie Hadlandsmyth\, PhD\nAssociate Professor\nCollege of Nursing\nUniversity of Iowa \nDate: Friday\, January 20\, 2026\, 1:00-2:00 p.m. ET \nOne-Tap Mobile \n+16469313860\,\,93501751057#\,\,\,\,*691159# \n+13017158592\,\,93501751057#\,\,\,\,*691159#  \nAudio Only Option \n+1 646 931 3860\n+1 301 715 8592  \nInternational numbers available: https://duke.zoom.us/u/adObz218II \nWebinar ID: 935 0175 1057 \nPasscode: 691159
URL:https://rethinkingclinicaltrials.org/event/grand-rounds-february-20-2026-applying-mind-body-skills-for-pain-using-a-whole-health-telehealth-intervention-ramp-early-progress-and-lessons-learned-diana-burgess-phd-roni-evans-dc-ms-phd/
CATEGORIES:Grand Rounds Event
END:VEVENT
END:VCALENDAR