BEGIN:VCALENDAR
VERSION:2.0
PRODID:-//Rethinking Clinical Trials - ECPv6.15.20//NONSGML v1.0//EN
CALSCALE:GREGORIAN
METHOD:PUBLISH
X-WR-CALNAME:Rethinking Clinical Trials
X-ORIGINAL-URL:https://rethinkingclinicaltrials.org
X-WR-CALDESC:Events for Rethinking Clinical Trials
REFRESH-INTERVAL;VALUE=DURATION:PT1H
X-Robots-Tag:noindex
X-PUBLISHED-TTL:PT1H
BEGIN:VTIMEZONE
TZID:America/New_York
BEGIN:DAYLIGHT
TZOFFSETFROM:-0500
TZOFFSETTO:-0400
TZNAME:EDT
DTSTART:20250309T070000
END:DAYLIGHT
BEGIN:STANDARD
TZOFFSETFROM:-0400
TZOFFSETTO:-0500
TZNAME:EST
DTSTART:20251102T060000
END:STANDARD
BEGIN:DAYLIGHT
TZOFFSETFROM:-0500
TZOFFSETTO:-0400
TZNAME:EDT
DTSTART:20260308T070000
END:DAYLIGHT
BEGIN:STANDARD
TZOFFSETFROM:-0400
TZOFFSETTO:-0500
TZNAME:EST
DTSTART:20261101T060000
END:STANDARD
BEGIN:DAYLIGHT
TZOFFSETFROM:-0500
TZOFFSETTO:-0400
TZNAME:EDT
DTSTART:20270314T070000
END:DAYLIGHT
BEGIN:STANDARD
TZOFFSETFROM:-0400
TZOFFSETTO:-0500
TZNAME:EST
DTSTART:20271107T060000
END:STANDARD
END:VTIMEZONE
BEGIN:VEVENT
DTSTART;TZID=America/New_York:20260213T130000
DTEND;TZID=America/New_York:20260213T140000
DTSTAMP:20260425T200745
CREATED:20260203T213551Z
LAST-MODIFIED:20260210T183350Z
UID:40200-1770987600-1770991200@rethinkingclinicaltrials.org
SUMMARY:Grand Rounds February 13\, 2026: The Making of the PCORnet® COMPARE-Pediatric IBD Study (Michael D. Kappelman\, MD\, MPH)
DESCRIPTION:Join the webinar: https://duke.zoom.us/j/98504893560?pwd=eezPa5qorRupc7WnKHNQw24bjiicve.1 \nPasscode: 748803 \nTitle: The Making of the PCORnet® COMPARE-Pediatric IBD Study \nSpeaker: \nMichael D. Kappelman\, MD\, MPH\nProfessor\, Pediatric Gastroenterology\nUniversity of North Carolina at Chapel Hill \nDate: Friday\, February 13\, 2026\, 1:00-2:00 p.m. ET \nOne-Tap Mobile \n+13017158592\,\,98504893560#\,\,\,\,*748803#\n+13052241968\,\,98504893560#\,\,\,\,*748803# \nAudio Only Option \n+1 301 715 8592\n+1 305 224 1968 \nInternational numbers available: https://duke.zoom.us/u/aUXCFgnTQ \nWebinar ID: 985 0489 3560\nPasscode: 748803
URL:https://rethinkingclinicaltrials.org/event/grand-rounds-february-13-2026-the-making-of-the-pcornet-compare-pediatric-ibd-study-michael-d-kappelman-md-mph/
CATEGORIES:Grand Rounds Event
END:VEVENT
END:VCALENDAR