BEGIN:VCALENDAR
VERSION:2.0
PRODID:-//Rethinking Clinical Trials - ECPv6.15.20//NONSGML v1.0//EN
CALSCALE:GREGORIAN
METHOD:PUBLISH
X-ORIGINAL-URL:https://rethinkingclinicaltrials.org
X-WR-CALDESC:Events for Rethinking Clinical Trials
REFRESH-INTERVAL;VALUE=DURATION:PT1H
X-Robots-Tag:noindex
X-PUBLISHED-TTL:PT1H
BEGIN:VTIMEZONE
TZID:America/New_York
BEGIN:DAYLIGHT
TZOFFSETFROM:-0500
TZOFFSETTO:-0400
TZNAME:EDT
DTSTART:20250309T070000
END:DAYLIGHT
BEGIN:STANDARD
TZOFFSETFROM:-0400
TZOFFSETTO:-0500
TZNAME:EST
DTSTART:20251102T060000
END:STANDARD
BEGIN:DAYLIGHT
TZOFFSETFROM:-0500
TZOFFSETTO:-0400
TZNAME:EDT
DTSTART:20260308T070000
END:DAYLIGHT
BEGIN:STANDARD
TZOFFSETFROM:-0400
TZOFFSETTO:-0500
TZNAME:EST
DTSTART:20261101T060000
END:STANDARD
BEGIN:DAYLIGHT
TZOFFSETFROM:-0500
TZOFFSETTO:-0400
TZNAME:EDT
DTSTART:20270314T070000
END:DAYLIGHT
BEGIN:STANDARD
TZOFFSETFROM:-0400
TZOFFSETTO:-0500
TZNAME:EST
DTSTART:20271107T060000
END:STANDARD
END:VTIMEZONE
BEGIN:VEVENT
DTSTART;TZID=America/New_York:20260123T130000
DTEND;TZID=America/New_York:20260123T140000
DTSTAMP:20260426T002915
CREATED:20260113T175240Z
LAST-MODIFIED:20260113T175501Z
UID:40080-1769173200-1769176800@rethinkingclinicaltrials.org
SUMMARY:Grand Rounds January 23\, 2026: DASH Groceries to Stop Hypertension: Results From the GoFresh Trial (Stephen P. Juraschek\, MD\, PhD\, FAHA\, AHSCP-CHS)
DESCRIPTION:Speaker: \nStephen P. Juraschek\, MD\, PhD\, FAHA\, AHSCP-CHS\nAssociate Professor of Medicine\nHCA Hypertension Center Director & Beth Israel Deaconess Medical Center \nTitle: DASH Groceries to Stop Hypertension: Results From the GoFresh Trial\n \nDate: Friday\, January 23\, 2026\, 1:00-2:00 p.m. ET \nPlease click the link below to join the webinar: https://duke.zoom.us/j/91486922120?pwd=hZ1RgfAOMnfVbqjeBL7Toph9gAgoTa.1 \nPasscode: 749303 \nOne-Tap Mobile \n+16468769923\,\,91486922120#\,\,\,\,*749303#\n+16469313860\,\,91486922120#\,\,\,\,*749303# \nAudio Only Option \n+1 646 876 9923\n+1 646 931 3860 \nInternational numbers available: https://duke.zoom.us/u/ahdAZAvu5 \nWebinar ID: 914 8692 2120\nPasscode: 749303
URL:https://rethinkingclinicaltrials.org/event/grand-rounds-january-23-2026-dash-groceries-to-stop-hypertension-results-from-the-gofresh-trial-stephen-p-juraschek-md-phd-faha-ahscp-chs/
CATEGORIES:Grand Rounds Event
END:VEVENT
END:VCALENDAR