BEGIN:VCALENDAR
VERSION:2.0
PRODID:-//Rethinking Clinical Trials - ECPv6.15.20//NONSGML v1.0//EN
CALSCALE:GREGORIAN
METHOD:PUBLISH
X-WR-CALNAME:Rethinking Clinical Trials
X-ORIGINAL-URL:https://rethinkingclinicaltrials.org
X-WR-CALDESC:Events for Rethinking Clinical Trials
REFRESH-INTERVAL;VALUE=DURATION:PT1H
X-Robots-Tag:noindex
X-PUBLISHED-TTL:PT1H
BEGIN:VTIMEZONE
TZID:America/New_York
BEGIN:DAYLIGHT
TZOFFSETFROM:-0500
TZOFFSETTO:-0400
TZNAME:EDT
DTSTART:20250309T070000
END:DAYLIGHT
BEGIN:STANDARD
TZOFFSETFROM:-0400
TZOFFSETTO:-0500
TZNAME:EST
DTSTART:20251102T060000
END:STANDARD
BEGIN:DAYLIGHT
TZOFFSETFROM:-0500
TZOFFSETTO:-0400
TZNAME:EDT
DTSTART:20260308T070000
END:DAYLIGHT
BEGIN:STANDARD
TZOFFSETFROM:-0400
TZOFFSETTO:-0500
TZNAME:EST
DTSTART:20261101T060000
END:STANDARD
BEGIN:DAYLIGHT
TZOFFSETFROM:-0500
TZOFFSETTO:-0400
TZNAME:EDT
DTSTART:20270314T070000
END:DAYLIGHT
BEGIN:STANDARD
TZOFFSETFROM:-0400
TZOFFSETTO:-0500
TZNAME:EST
DTSTART:20271107T060000
END:STANDARD
END:VTIMEZONE
BEGIN:VEVENT
DTSTART;TZID=America/New_York:20260417T130000
DTEND;TZID=America/New_York:20260417T140000
DTSTAMP:20260424T060827
CREATED:20260324T173351Z
LAST-MODIFIED:20260324T173351Z
UID:40754-1776430800-1776434400@rethinkingclinicaltrials.org
SUMMARY:Grand Rounds April 17\, 2026: Keeping a Human in the Loop: Scientific Publishing and AI (Roy Perlis\, MD\, MSc)
DESCRIPTION:Join the webinar: https://duke.zoom.us/j/93579352332?pwd=PHTSdxudlxVfFxztMNM3CwUb0Miykb.1 \nPasscode: 827623 \nTitle: Keeping a Human in the Loop: Scientific Publishing and AI \nSpeaker: \nRoy Perlis\, MD MSc\nEditor in Chief\, JAMA+ AI\nDirector\, MGH Center for Quantitative Health\nVice Chair for Research\, Mass General-Brigham Psychiatry\nProfessor of Psychiatry\, Harvard Medical School \nDate: Friday\, April 17\, 2026\, 1:00-2:00 p.m. ET \nOne-Tap Mobile \n+13017158592\,\,93579352332#\,\,\,\,*827623# \n+13052241968\,\,93579352332#\,\,\,\,*827623#  \nAudio Only Option \n+1 301 715 8592 \n+1 305 224 1968  \nInternational numbers available: https://duke.zoom.us/u/aClxITXw1 \nWebinar ID: 935 7935 2332\nPasscode: 827623
URL:https://rethinkingclinicaltrials.org/event/grand-rounds-april-17-2026-keeping-a-human-in-the-loop-scientific-publishing-and-ai-roy-perlis-md-msc/
CATEGORIES:Grand Rounds Event
END:VEVENT
END:VCALENDAR